BEGIN:VCALENDAR
VERSION:2.0
PRODID:-//Mendez Strategy Group - ECPv6.15.20//NONSGML v1.0//EN
CALSCALE:GREGORIAN
METHOD:PUBLISH
X-WR-CALNAME:Mendez Strategy Group
X-ORIGINAL-URL:https://mendezstrategy.com
X-WR-CALDESC:Events for Mendez Strategy Group
REFRESH-INTERVAL;VALUE=DURATION:PT1H
X-Robots-Tag:noindex
X-PUBLISHED-TTL:PT1H
BEGIN:VTIMEZONE
TZID:America/Los_Angeles
BEGIN:DAYLIGHT
TZOFFSETFROM:-0800
TZOFFSETTO:-0700
TZNAME:PDT
DTSTART:20250309T100000
END:DAYLIGHT
BEGIN:STANDARD
TZOFFSETFROM:-0700
TZOFFSETTO:-0800
TZNAME:PST
DTSTART:20251102T090000
END:STANDARD
BEGIN:DAYLIGHT
TZOFFSETFROM:-0800
TZOFFSETTO:-0700
TZNAME:PDT
DTSTART:20260308T100000
END:DAYLIGHT
BEGIN:STANDARD
TZOFFSETFROM:-0700
TZOFFSETTO:-0800
TZNAME:PST
DTSTART:20261101T090000
END:STANDARD
BEGIN:DAYLIGHT
TZOFFSETFROM:-0800
TZOFFSETTO:-0700
TZNAME:PDT
DTSTART:20270314T100000
END:DAYLIGHT
BEGIN:STANDARD
TZOFFSETFROM:-0700
TZOFFSETTO:-0800
TZNAME:PST
DTSTART:20271107T090000
END:STANDARD
END:VTIMEZONE
BEGIN:VTIMEZONE
TZID:UTC
BEGIN:STANDARD
TZOFFSETFROM:+0000
TZOFFSETTO:+0000
TZNAME:UTC
DTSTART:20250101T000000
END:STANDARD
END:VTIMEZONE
BEGIN:VEVENT
DTSTART;TZID=America/Los_Angeles:20260130T120000
DTEND;TZID=America/Los_Angeles:20260130T131500
DTSTAMP:20260422T083836
CREATED:20260109T041919Z
LAST-MODIFIED:20260109T222704Z
UID:408-1769774400-1769778900@mendezstrategy.com
SUMMARY:Albondigas - Friday\, January 30th with Jordan Marks
DESCRIPTION:Jordan Marks\, County of San Diego Assessor\, Recorder\, County Clerk\nLocation: Brewjeria Taproom & Kitchen\nDate: Friday\, January 30\, 2025 \nTime: 12:00 PM – 1:15 PM \n*Location: Brewjeria Taproom & Kitchen \n241 3rd Ave c\, Chula Vista\, CA 91910
URL:https://mendezstrategy.com/event/01-30-26/
LOCATION:Brewjería Taproom & Kitchen\, 241 3rd Ave\, C\, Chula Vista\, CA\, 91910\, United States
ORGANIZER;CN="Mendez Strategy Group":MAILTO:john@mendezstrategy.com
END:VEVENT
BEGIN:VEVENT
DTSTART;TZID=America/Los_Angeles:20260227T120000
DTEND;TZID=America/Los_Angeles:20260227T133000
DTSTAMP:20260422T083836
CREATED:20260206T025404Z
LAST-MODIFIED:20260206T025404Z
UID:430-1772193600-1772199000@mendezstrategy.com
SUMMARY:Albondigas - Friday\, February 27th with Marco Verdugo
DESCRIPTION:Marco Verdugo\, Chula Vista’s City Attorney\nLocation: Brewjeria Taproom & Kitchen\nDate: Friday\, February 27\, 2026 \nTime: 12:00 PM – 1:30 PM \n*Location: Brewjeria Taproom & Kitchen \n241 3rd Ave c\, Chula Vista\, CA 91910
URL:https://mendezstrategy.com/event/02-27-26/
LOCATION:Brewjería Taproom & Kitchen\, 241 3rd Ave\, C\, Chula Vista\, CA\, 91910\, United States
ORGANIZER;CN="Mendez Strategy Group":MAILTO:john@mendezstrategy.com
END:VEVENT
BEGIN:VEVENT
DTSTART;TZID=UTC:20260327T120000
DTEND;TZID=UTC:20260327T133000
DTSTAMP:20260422T083836
CREATED:20260309T144438Z
LAST-MODIFIED:20260309T144438Z
UID:443-1774612800-1774618200@mendezstrategy.com
SUMMARY:Albondigas - Friday\, March 27th with Summer Stephan
DESCRIPTION:Summer Stephan\, San Diego County District Attorney\nLocation: Brewjeria Taproom & Kitchen\nDate: Friday\, March 27\, 2026 \nTime: 12:00 PM – 1:30 PM \n*Location: Brewjeria Taproom & Kitchen \n241 3rd Ave c\, Chula Vista\, CA 91910
URL:https://mendezstrategy.com/event/albondigas-friday-march-27th-with-summer-stephan/
LOCATION:Brewjería Taproom & Kitchen\, 241 3rd Ave\, C\, Chula Vista\, CA\, 91910\, United States
ORGANIZER;CN="Mendez Strategy Group":MAILTO:john@mendezstrategy.com
END:VEVENT
BEGIN:VEVENT
DTSTART;TZID=UTC:20260424T114500
DTEND;TZID=UTC:20260424T130000
DTSTAMP:20260422T083836
CREATED:20260403T182636Z
LAST-MODIFIED:20260403T191548Z
UID:452-1777031100-1777035600@mendezstrategy.com
SUMMARY:Albondigas - 4/24 Water Authority
DESCRIPTION:Shaping San Diego’s Water Future: Recycling\, Rates\, and Innovation\nSpecial Location: University Club San Diego\nDate: Friday\, April 24\, 2026 \nTime: 11:45AM – 1:30 PM \n*Location: University Club San Diego \n750 B St Suite #3400\, San Diego\, CA 92101 \n 
URL:https://mendezstrategy.com/event/water/
LOCATION:University Club San Diego\, 750 B St Suite #3400\, San Diego\, CA\, 92101\, United States
ORGANIZER;CN="Mendez Strategy Group":MAILTO:john@mendezstrategy.com
END:VEVENT
END:VCALENDAR