BEGIN:VCALENDAR
VERSION:2.0
PRODID:-//Mendez Strategy Group - ECPv6.15.20//NONSGML v1.0//EN
CALSCALE:GREGORIAN
METHOD:PUBLISH
X-WR-CALNAME:Mendez Strategy Group
X-ORIGINAL-URL:https://mendezstrategy.com
X-WR-CALDESC:Events for Mendez Strategy Group
REFRESH-INTERVAL;VALUE=DURATION:PT1H
X-Robots-Tag:noindex
X-PUBLISHED-TTL:PT1H
BEGIN:VTIMEZONE
TZID:America/Los_Angeles
BEGIN:DAYLIGHT
TZOFFSETFROM:-0800
TZOFFSETTO:-0700
TZNAME:PDT
DTSTART:20240310T100000
END:DAYLIGHT
BEGIN:STANDARD
TZOFFSETFROM:-0700
TZOFFSETTO:-0800
TZNAME:PST
DTSTART:20241103T090000
END:STANDARD
BEGIN:DAYLIGHT
TZOFFSETFROM:-0800
TZOFFSETTO:-0700
TZNAME:PDT
DTSTART:20250309T100000
END:DAYLIGHT
BEGIN:STANDARD
TZOFFSETFROM:-0700
TZOFFSETTO:-0800
TZNAME:PST
DTSTART:20251102T090000
END:STANDARD
BEGIN:DAYLIGHT
TZOFFSETFROM:-0800
TZOFFSETTO:-0700
TZNAME:PDT
DTSTART:20260308T100000
END:DAYLIGHT
BEGIN:STANDARD
TZOFFSETFROM:-0700
TZOFFSETTO:-0800
TZNAME:PST
DTSTART:20261101T090000
END:STANDARD
END:VTIMEZONE
BEGIN:VEVENT
DTSTART;TZID=America/Los_Angeles:20251121T120000
DTEND;TZID=America/Los_Angeles:20251121T133000
DTSTAMP:20260422T101608
CREATED:20251107T145749Z
LAST-MODIFIED:20251107T145934Z
UID:393-1763726400-1763731800@mendezstrategy.com
SUMMARY:Albondigas with Chula Vista City Manager\, Tiffany Allen
DESCRIPTION:Please join us for lunch on Friday\, November 21\, 2025 from 12:00 PM – 1:30 PM as we host Tiffany Allen\, City Manager of Chula Vista at La Sabrosita!\nwith Special Co-host Chula Vista Councilmember Michael Inzunza District 3\n\n\n\n  \n*NEW Location: La Sabrosita – Botanero Grill & Cantina 2010 Birch Rd #101\, Chula Vista\, CA 91915
URL:https://mendezstrategy.com/event/albondigas-with-chula-vista-city-manager-tiffany-allen/
LOCATION:La Sabrosita – Botanero Grill & Cantina\, 2010 Birch Rd #101\, Chula Vista\, CA\, 91915\, United States
ORGANIZER;CN="Mendez Strategy Group":MAILTO:john@mendezstrategy.com
END:VEVENT
BEGIN:VEVENT
DTSTART;TZID=America/Los_Angeles:20251024T120000
DTEND;TZID=America/Los_Angeles:20251024T133000
DTSTAMP:20260422T101608
CREATED:20251009T045349Z
LAST-MODIFIED:20251009T045349Z
UID:381-1761307200-1761312600@mendezstrategy.com
SUMMARY:Albondigas October 24\, 2025 with Jose Preciado\, CA Coastal Commissioner
DESCRIPTION:Albondigas South County is Friday\, October 24th\, with special guest Jose Preciado\, CA Coastal Commissioner!\nDate: Friday\, October 24\, 2025 \nTime: 12:00 PM – 1:30 PM \nLocation: Brewjería Taproom & Kitchen \n241 3rd Ave\, C\, Chula Vista\, CA 91910
URL:https://mendezstrategy.com/event/albondigas-october-24-2025-with-jose-preciado-ca-coastal-commissioner/
LOCATION:Brewjería Taproom & Kitchen\, 241 3rd Ave\, C\, Chula Vista\, CA\, 91910\, United States
ORGANIZER;CN="Mendez Strategy Group":MAILTO:john@mendezstrategy.com
END:VEVENT
BEGIN:VEVENT
DTSTART;TZID=America/Los_Angeles:20250926T113000
DTEND;TZID=America/Los_Angeles:20250926T130000
DTSTAMP:20260422T101608
CREATED:20250909T165337Z
LAST-MODIFIED:20250909T165545Z
UID:369-1758886200-1758891600@mendezstrategy.com
SUMMARY:Albondigas - Friday\, September 26th with Assemblymember David Alvarez
DESCRIPTION:Friday\, September 26th is Albondigas with Assemblymember David Alvarez. \n*PLEASE NOTE earlier start time for this event.* \nDate: Friday\, September 26\, 2025 \nTime: 11:30 a.m.-1:00 p.m. \nLocation: Brewjería Taproom & Kitchen \n241 3rd Ave\, C\, Chula Vista\, CA 91910
URL:https://mendezstrategy.com/event/albondigas-09-26-25/
LOCATION:Brewjería Taproom & Kitchen\, 241 3rd Ave\, C\, Chula Vista\, CA\, 91910\, United States
ORGANIZER;CN="Mendez Strategy Group":MAILTO:john@mendezstrategy.com
END:VEVENT
BEGIN:VEVENT
DTSTART;TZID=America/Los_Angeles:20250822T120000
DTEND;TZID=America/Los_Angeles:20250822T133000
DTSTAMP:20260422T101608
CREATED:20250805T174501Z
LAST-MODIFIED:20250805T210737Z
UID:354-1755864000-1755869400@mendezstrategy.com
SUMMARY:Albondigas South County - August 22\, 2025 with MTS CEO Sharon Cooney
DESCRIPTION:Please join us for lunch on Friday\, August 22\, 2025 from 12:00PM – 1:30PM as we host special guest Sharon Cooney\, Chief Executive Officer for the San Diego Metropolitan Transit System.
URL:https://mendezstrategy.com/event/albondigas-south-county-august-22-2025-with-mts-ceo-sharon-cooney/
LOCATION:Brewjería Taproom & Kitchen\, 241 3rd Ave\, C\, Chula Vista\, CA\, 91910\, United States
ATTACH;FMTTYPE=image/png:https://mendezstrategy.com/wp-content/uploads/2025/08/Albondigas-2024-Logo-e1754415876323.png
ORGANIZER;CN="Mendez Strategy Group":MAILTO:john@mendezstrategy.com
END:VEVENT
END:VCALENDAR